BEGIN:VCALENDAR
VERSION:2.0
PRODID:-//Nexus Imaging Solutions | nex-usa.com - ECPv6.15.17.1//NONSGML v1.0//EN
CALSCALE:GREGORIAN
METHOD:PUBLISH
X-WR-CALNAME:Nexus Imaging Solutions | nex-usa.com
X-ORIGINAL-URL:https://www.nex-usa.com
X-WR-CALDESC:Events for Nexus Imaging Solutions | nex-usa.com
REFRESH-INTERVAL;VALUE=DURATION:PT1H
X-Robots-Tag:noindex
X-PUBLISHED-TTL:PT1H
BEGIN:VTIMEZONE
TZID:UTC
BEGIN:STANDARD
TZOFFSETFROM:+0000
TZOFFSETTO:+0000
TZNAME:UTC
DTSTART:20230101T000000
END:STANDARD
END:VTIMEZONE
BEGIN:VEVENT
DTSTART;VALUE=DATE:20240422
DTEND;VALUE=DATE:20240426
DTSTAMP:20260422T034629
CREATED:20230905T074539Z
LAST-MODIFIED:20231101T121158Z
UID:743-1713744000-1714089599@www.nex-usa.com
SUMMARY:Laserfiche Empower 2024: Double Down on Your Content Services Platform
DESCRIPTION:Don’t just roll the dice with your business documents and data. Join Laserfiche® experts\, thought leaders and thousands of other innovators in Las Vegas\, as we learn to harness the power of business process automation\, leveraging artificial intelligence and no-code tools to help transform lives. \nLaserfiche Empower 2024 – https://empower.laserfiche.com/
URL:https://www.nex-usa.com/event/double-down-on-your-content-services-platform/
LOCATION:Mandalay Bay Resort Las Vegas\, Nevada
END:VEVENT
BEGIN:VEVENT
DTSTART;VALUE=DATE:20250414
DTEND;VALUE=DATE:20250418
DTSTAMP:20260422T034629
CREATED:20250401T123948Z
LAST-MODIFIED:20250401T123948Z
UID:1540-1744588800-1744934399@www.nex-usa.com
SUMMARY:Laserfiche Empower 2025: Meet Us at Mandalay Bay!
DESCRIPTION:Empower returns to Mandalay Bay in Las Vegas April 14-17\, 2025. Enjoy attractions\, dining and lodging\, all a quick walk from the conference floor. In addition\, all attendees are invited to a reception at the famous Mandalay Bay Beach. \nBook your stay at Mandalay Bay for discounted pricing on select rooms\, and discounted registration fees when bundling a hotel stay with your event pass.
URL:https://www.nex-usa.com/event/laserfiche-empower-2025-meet-us-at-mandalay-bay/
LOCATION:Mandalay Bay Resort Las Vegas\, Nevada
END:VEVENT
BEGIN:VEVENT
DTSTART;TZID=UTC:20250426T080000
DTEND;TZID=UTC:20250426T170000
DTSTAMP:20260422T034629
CREATED:20250426T110848Z
LAST-MODIFIED:20250426T111305Z
UID:1599-1745654400-1745686800@www.nex-usa.com
SUMMARY:Nexus Newsletter Volume 1\, Issue 17: New Laserfiche Artificial Intelligence Tools
DESCRIPTION:Nexus Newsletter Volume 1\, Issue 17 highlights various new Laserfiche Artificial Intelligence tools to be leveraged immediately as well as the 2025 Roadmap for AI. Nexus Volume 1 Issue 17: New Laserfiche AI Tools
URL:https://www.nex-usa.com/event/nexus-newsletter-volume-1-issue-17-new-laserfiche-artificial-intelligence-tools/
END:VEVENT
END:VCALENDAR