BEGIN:VCALENDAR
VERSION:2.0
PRODID:-//Nexus Imaging Solutions | nex-usa.com - ECPv6.15.17.1//NONSGML v1.0//EN
CALSCALE:GREGORIAN
METHOD:PUBLISH
X-WR-CALNAME:Nexus Imaging Solutions | nex-usa.com
X-ORIGINAL-URL:https://www.nex-usa.com
X-WR-CALDESC:Events for Nexus Imaging Solutions | nex-usa.com
REFRESH-INTERVAL;VALUE=DURATION:PT1H
X-Robots-Tag:noindex
X-PUBLISHED-TTL:PT1H
BEGIN:VTIMEZONE
TZID:UTC
BEGIN:STANDARD
TZOFFSETFROM:+0000
TZOFFSETTO:+0000
TZNAME:UTC
DTSTART:20140101T000000
END:STANDARD
END:VTIMEZONE
BEGIN:VEVENT
DTSTART;VALUE=DATE:20230822
DTEND;VALUE=DATE:20230823
DTSTAMP:20260422T224313
CREATED:20230829T081252Z
LAST-MODIFIED:20230829T081252Z
UID:653-1692662400-1692748799@www.nex-usa.com
SUMMARY:Nexus Imaging Launches A New Line of ROWE Scanners
DESCRIPTION:Nexus Imaging Launches A New Line of ROWE Scanners (accesswire.com)
URL:https://www.nex-usa.com/event/nexus-imaging-launches-a-new-line-of-rowe-scanners/
END:VEVENT
BEGIN:VEVENT
DTSTART;VALUE=DATE:20220207
DTEND;VALUE=DATE:20220211
DTSTAMP:20260422T224313
CREATED:20230829T081413Z
LAST-MODIFIED:20230829T081413Z
UID:655-1644192000-1644537599@www.nex-usa.com
SUMMARY:Laserfiche Empower 2022
DESCRIPTION:Please register and join us at this year’s Laserfiche Empower Virtual Event: Laserfiche Empower 2022 Signup
URL:https://www.nex-usa.com/event/laserfiche-empower-2022/
END:VEVENT
BEGIN:VEVENT
DTSTART;VALUE=DATE:20220202
DTEND;VALUE=DATE:20220203
DTSTAMP:20260422T224313
CREATED:20230829T081538Z
LAST-MODIFIED:20230829T081538Z
UID:657-1643760000-1643846399@www.nex-usa.com
SUMMARY:Nexus Newsletter
DESCRIPTION:Volume 1 Issue 9 – 2022 Jumpstart \nIn this issue you will find several offers to jumpstart your digital transformation. Also\, the announcement that Nexus Imaging Solutions won Laserfiche’s 2022 Rising Star Award for North America.
URL:https://www.nex-usa.com/event/nexus-newsletter/
END:VEVENT
BEGIN:VEVENT
DTSTART;VALUE=DATE:20210818
DTEND;VALUE=DATE:20210819
DTSTAMP:20260422T224313
CREATED:20230829T081637Z
LAST-MODIFIED:20230829T081637Z
UID:660-1629244800-1629331199@www.nex-usa.com
SUMMARY:Laserfiche Spark Live Broadcast
DESCRIPTION:Please register and join us at this year’s Laserfiche Spark live webcast: Laserfiche Spark Signup
URL:https://www.nex-usa.com/event/laserfiche-spark-live-broadcast/
END:VEVENT
BEGIN:VEVENT
DTSTART;VALUE=DATE:20200211
DTEND;VALUE=DATE:20200215
DTSTAMP:20260422T224313
CREATED:20230829T081739Z
LAST-MODIFIED:20230829T081739Z
UID:662-1581379200-1581724799@www.nex-usa.com
SUMMARY:Laserfiche Empower 2020 Conference
DESCRIPTION:Please join us at this year’s Laserfiche Empower Conference in Long Beach\, CA. Here you will be able to network with a global community of 4000+ tech and business leaders and learn how to build more digitally driven\, automated\, and intelligent enterprises while you discover the latest tools and trends. You’ll also be able to choose from more than 280 sessions taught by industry leaders and Laserfiche experts who are building the future of the digital workplace. Read more
URL:https://www.nex-usa.com/event/laserfiche-empower-2020-conference/
END:VEVENT
BEGIN:VEVENT
DTSTART;VALUE=DATE:20190305
DTEND;VALUE=DATE:20190306
DTSTAMP:20260422T224313
CREATED:20230829T081814Z
LAST-MODIFIED:20230829T081814Z
UID:664-1551744000-1551830399@www.nex-usa.com
SUMMARY:Nexus Imaging Solutions announces the addition of DocuSign
DESCRIPTION:We are pleased to announce the addition of DocuSign e-signature and form-filling software as one of our trusted partners. We feel that DocuSign provides a much needed value-add service for all clients seeking next-level digital transaction management. For more information\, follow this link to find out how this award winning solution can benefit your organization.
URL:https://www.nex-usa.com/event/nexus-imaging-solutions-announces-the-addition-of-docusign/
END:VEVENT
BEGIN:VEVENT
DTSTART;VALUE=DATE:20181127
DTEND;VALUE=DATE:20181128
DTSTAMP:20260422T224313
CREATED:20230829T081905Z
LAST-MODIFIED:20230829T081905Z
UID:666-1543276800-1543363199@www.nex-usa.com
SUMMARY:Laserfiche Empower 2019 Conference
DESCRIPTION:We cordially invite all customers – as well as others interested in Laserfiche solutions – to join us at this year’s Laserfiche Empower Conference in Long Beach\, CA. Here you will be able to network with a global community of 4000+ tech and business leaders and learn how to build more digitally driven\, automated\, and intelligent enterprises while you discover the latest tools and trends. Read more
URL:https://www.nex-usa.com/event/laserfiche-empower-2019-conference/
END:VEVENT
BEGIN:VEVENT
DTSTART;VALUE=DATE:20150805
DTEND;VALUE=DATE:20150806
DTSTAMP:20260422T224313
CREATED:20230829T081943Z
LAST-MODIFIED:20230829T081943Z
UID:668-1438732800-1438819199@www.nex-usa.com
SUMMARY:When You Can’t Be Everything to Everybody…Partner Up
DESCRIPTION:In business\, it’s sometimes hard to resist the temptation to add a product or service just because someone has asked for it. There’s a balance between the desire to please and the cost to invent (or re-invent) the wheel. If two businesses are willing\, strategic partnerships can be the ideal solution – offering clients enhanced services without added expense or elongated learning curves for any of the parties involved. Two recent partnerships have reminded us of the benefit of pairing together with experienced associates. Read more
URL:https://www.nex-usa.com/event/when-you-cant-be-everything-to-everybodypartner-up/
END:VEVENT
END:VCALENDAR